BEGIN:VCALENDAR
METHOD:REQUEST
PRODID:-//events.orgNONSGML ical.net 4.0//EN
VERSION:2.0
BEGIN:VEVENT
DTEND;VALUE=DATE:20260420
DTSTAMP:20260423T155255Z
DTSTART;VALUE=DATE:20260420
LOCATION:Los Angeles Memorial Coliseum\, Los Angeles
ORGANIZER;CN=:mailto:events@events.org
SEQUENCE:0
SUMMARY:Los Angeles Coliseum Historic Tours
UID:4198e265-920d-4f86-8fc8-3db442c44e17
URL:https://events.org/e/Los-Angeles-Coliseum-Historic-Tours/GGPJ8BA6
BEGIN:VALARM
ACTION:DISPLAY
SUMMARY:Reminder
TRIGGER:-P1D
END:VALARM
END:VEVENT
END:VCALENDAR
