BEGIN:VCALENDAR
METHOD:REQUEST
PRODID:-//events.orgNONSGML ical.net 4.0//EN
VERSION:2.0
BEGIN:VEVENT
DTEND;VALUE=DATE:20260320
DTSTAMP:20260424T165433Z
DTSTART;VALUE=DATE:20260320
LOCATION:Ramova Theatre\, Chicago
ORGANIZER;CN=:mailto:events@events.org
SEQUENCE:0
SUMMARY:Boogie T
UID:5a0bc44a-0871-43e0-ba42-e626f030f142
URL:https://events.org/e/Boogie-T/L2X45M76
BEGIN:VALARM
ACTION:DISPLAY
SUMMARY:Reminder
TRIGGER:-P1D
END:VALARM
END:VEVENT
END:VCALENDAR
