BEGIN:VCALENDAR
METHOD:REQUEST
PRODID:-//events.orgNONSGML ical.net 4.0//EN
VERSION:2.0
BEGIN:VEVENT
DTEND;VALUE=DATE:20260316
DTSTAMP:20260420T135841Z
DTSTART;VALUE=DATE:20260316
LOCATION:T-Mobile Park\, Seattle
ORGANIZER;CN=:mailto:events@events.org
SEQUENCE:0
SUMMARY:Seattle Mariners Ballpark Tour
UID:6fb7aaae-dc13-4cf6-a41f-87f2f3e31912
URL:https://events.org/e/Seattle-Mariners-Ballpark-Tour/RF6EB4H2
BEGIN:VALARM
ACTION:DISPLAY
SUMMARY:Reminder
TRIGGER:-P1D
END:VALARM
END:VEVENT
END:VCALENDAR
