BEGIN:VCALENDAR
METHOD:REQUEST
PRODID:-//events.orgNONSGML ical.net 4.0//EN
VERSION:2.0
BEGIN:VEVENT
DTEND;VALUE=DATE:20260128
DTSTAMP:20260421T161743Z
DTSTART;VALUE=DATE:20260128
LOCATION:Mortgage Matchup Center (formerly PHX Arena)\, Phoenix
ORGANIZER;CN=:mailto:events@events.org
SEQUENCE:0
SUMMARY:TWICE [THIS IS FOR] WORLD TOUR IN PHOENIX
UID:8f94d351-0cf9-4d3b-9a15-be8e0214f13f
URL:https://events.org/e/TWICE-THIS-IS-FOR-WORLD-TOUR-IN-PHOENIX/9VFM5PSD
BEGIN:VALARM
ACTION:DISPLAY
SUMMARY:Reminder
TRIGGER:-P1D
END:VALARM
END:VEVENT
END:VCALENDAR
