BEGIN:VCALENDAR
METHOD:REQUEST
PRODID:-//events.orgNONSGML ical.net 4.0//EN
VERSION:2.0
BEGIN:VEVENT
DTEND;VALUE=DATE:20260316
DTSTAMP:20260424T162457Z
DTSTART;VALUE=DATE:20260316
LOCATION:Arizona Financial Theatre\, Phoenix
ORGANIZER;CN=:mailto:events@events.org
SEQUENCE:0
SUMMARY:Miguel: CAOS Tour
UID:a5e977b2-f1f2-44b4-bd78-5ff33233d7be
URL:https://events.org/e/Miguel-CAOS-Tour/S2Q4X2YD
BEGIN:VALARM
ACTION:DISPLAY
SUMMARY:Reminder
TRIGGER:-P1D
END:VALARM
END:VEVENT
END:VCALENDAR
