BEGIN:VCALENDAR
METHOD:REQUEST
PRODID:-//events.orgNONSGML ical.net 4.0//EN
VERSION:2.0
BEGIN:VEVENT
DTEND;VALUE=DATE:20260314
DTSTAMP:20260424T163438Z
DTSTART;VALUE=DATE:20260314
LOCATION:Yuengling Center\, Tampa
ORGANIZER;CN=:mailto:events@events.org
SEQUENCE:0
SUMMARY:Cubatonazo Tampa 2026
UID:21fe395b-21c9-45f4-bf85-13e66d70881a
URL:https://events.org/e/Cubatonazo-Tampa-2026/CJSF4KKR
BEGIN:VALARM
ACTION:DISPLAY
SUMMARY:Reminder
TRIGGER:-P1D
END:VALARM
END:VEVENT
END:VCALENDAR
