BEGIN:VCALENDAR
METHOD:REQUEST
PRODID:-//events.orgNONSGML ical.net 4.0//EN
VERSION:2.0
BEGIN:VEVENT
DTEND;VALUE=DATE:20260314
DTSTAMP:20260424T161742Z
DTSTART;VALUE=DATE:20260314
LOCATION:Boch Center Wang Theatre\, Boston
ORGANIZER;CN=:mailto:events@events.org
SEQUENCE:0
SUMMARY:Jim Jefferies: Son Of A Carpenter
UID:bd52d152-b12d-4518-9e90-d15f727065cd
URL:https://events.org/e/Jim-Jefferies-Son-Of-A-Carpenter/L9UFTMI5
BEGIN:VALARM
ACTION:DISPLAY
SUMMARY:Reminder
TRIGGER:-P1D
END:VALARM
END:VEVENT
END:VCALENDAR
